BEGIN:VCALENDAR
VERSION:2.0
PRODID:icalendar-ruby
CALSCALE:GREGORIAN
METHOD:PUBLISH
BEGIN:VEVENT
DTSTAMP:20260421T004748Z
UID:129-150592@stgeorgesanglicantranscona.ca
DTSTART:20260429T180000Z
DTEND:20260429T190000Z
CLASS:PUBLIC
CREATED:20260413T133540
DESCRIPTION:Join is for an in person bible study\, coffee and fellowship
LAST-MODIFIED:20260413T133540
LOCATION:St. George's Anglican Transcona  321 Pandora Avenue West
SUMMARY:Bible Study- Fresh Faith Expressions
URL;VALUE=URI:https://www.stgeorgesanglicantranscona.ca/events/bible-study-
 fresh-faith-expressions/2026-04-29
ATTACH;FILENAME=bible-study.png;FMTTYPE=image/png:https://dq5pwpg1q8ru0.clo
 udfront.net/2025/05/05/16/39/56/5272dc38-129e-460a-ab2b-753f0c034204/bible
 -study.png
END:VEVENT
END:VCALENDAR
